BEGIN:VCALENDAR
VERSION:2.0
PRODID:-//St Nicholas Prayer Garden - ECPv6.15.11//NONSGML v1.0//EN
CALSCALE:GREGORIAN
METHOD:PUBLISH
X-WR-CALNAME:St Nicholas Prayer Garden
X-ORIGINAL-URL:https://stnicholasprayergarden.org
X-WR-CALDESC:Events for St Nicholas Prayer Garden
REFRESH-INTERVAL;VALUE=DURATION:PT1H
X-Robots-Tag:noindex
X-PUBLISHED-TTL:PT1H
BEGIN:VTIMEZONE
TZID:UTC
BEGIN:STANDARD
TZOFFSETFROM:+0000
TZOFFSETTO:+0000
TZNAME:UTC
DTSTART:20190101T000000
END:STANDARD
END:VTIMEZONE
BEGIN:VTIMEZONE
TZID:America/Chicago
BEGIN:DAYLIGHT
TZOFFSETFROM:-0600
TZOFFSETTO:-0500
TZNAME:CDT
DTSTART:20190310T080000
END:DAYLIGHT
BEGIN:STANDARD
TZOFFSETFROM:-0500
TZOFFSETTO:-0600
TZNAME:CST
DTSTART:20191103T070000
END:STANDARD
BEGIN:DAYLIGHT
TZOFFSETFROM:-0600
TZOFFSETTO:-0500
TZNAME:CDT
DTSTART:20200308T080000
END:DAYLIGHT
BEGIN:STANDARD
TZOFFSETFROM:-0500
TZOFFSETTO:-0600
TZNAME:CST
DTSTART:20201101T070000
END:STANDARD
BEGIN:DAYLIGHT
TZOFFSETFROM:-0600
TZOFFSETTO:-0500
TZNAME:CDT
DTSTART:20210314T080000
END:DAYLIGHT
BEGIN:STANDARD
TZOFFSETFROM:-0500
TZOFFSETTO:-0600
TZNAME:CST
DTSTART:20211107T070000
END:STANDARD
END:VTIMEZONE
BEGIN:VEVENT
DTSTART;VALUE=DATE:20201212
DTEND;VALUE=DATE:20201213
DTSTAMP:20260420T021119
CREATED:20200403T065255Z
LAST-MODIFIED:20200403T020641Z
UID:210-1607731200-1607817599@stnicholasprayergarden.org
SUMMARY:Our Lady of Guadalupe
DESCRIPTION:Please check back for more details.
URL:https://stnicholasprayergarden.org/event/our-lady-of-guadalupe/
END:VEVENT
BEGIN:VEVENT
DTSTART;VALUE=DATE:20201205
DTEND;VALUE=DATE:20201207
DTSTAMP:20260420T021119
CREATED:20200403T065114Z
LAST-MODIFIED:20200403T020747Z
UID:206-1607126400-1607299199@stnicholasprayergarden.org
SUMMARY:Feast of St. Nicholas
DESCRIPTION:Please check back for more details.
URL:https://stnicholasprayergarden.org/event/feast-of-st-nicholas/
END:VEVENT
BEGIN:VEVENT
DTSTART;TZID=UTC:20201121T170000
DTEND;TZID=UTC:20201121T170000
DTSTAMP:20260420T021119
CREATED:20200403T064932Z
LAST-MODIFIED:20200529T170537Z
UID:203-1605978000-1605978000@stnicholasprayergarden.org
SUMMARY:Friends of St Nicholas 2020 Raffle
DESCRIPTION:Tickets are now on sale for the 2020 Raffle! Drawing to be held November 21\, 2020\, at 5:30 pm at the Friends of St. Nicholas Welcome Center. \nTicket Price is $10 each \nCLICK HERE for all the details. \nTo purchase tickets\, please stop by the Welcome Center at the Prayer Garden or contact us at fosninfo@gmail.com. \n 
URL:https://stnicholasprayergarden.org/event/2020-raffle/
END:VEVENT
BEGIN:VEVENT
DTSTART;VALUE=DATE:20201004
DTEND;VALUE=DATE:20201005
DTSTAMP:20260420T021119
CREATED:20200403T064728Z
LAST-MODIFIED:20200403T020832Z
UID:201-1601769600-1601855999@stnicholasprayergarden.org
SUMMARY:Feast of St. Francis
DESCRIPTION:Please check back for more details.
URL:https://stnicholasprayergarden.org/event/feast-of-st-francis/
END:VEVENT
BEGIN:VEVENT
DTSTART;TZID=UTC:20200919T110000
DTEND;TZID=UTC:20200919T110000
DTSTAMP:20260420T021119
CREATED:20200403T064617Z
LAST-MODIFIED:20200403T064617Z
UID:199-1600513200-1600513200@stnicholasprayergarden.org
SUMMARY:Shrine Leader Meeting
DESCRIPTION:Quarterly update.
URL:https://stnicholasprayergarden.org/event/shrine-leader-meeting-3/
END:VEVENT
BEGIN:VEVENT
DTSTART;VALUE=DATE:20200912
DTEND;VALUE=DATE:20200914
DTSTAMP:20260420T021119
CREATED:20200403T020933Z
LAST-MODIFIED:20200403T020933Z
UID:218-1599868800-1600041599@stnicholasprayergarden.org
SUMMARY:St. Nicholas Fall Festival
DESCRIPTION:Please check back for more details.
URL:https://stnicholasprayergarden.org/event/st-nicholas-fall-festival/
END:VEVENT
BEGIN:VEVENT
DTSTART;TZID=UTC:20200908T183000
DTEND;TZID=UTC:20200908T183000
DTSTAMP:20260420T021119
CREATED:20200403T064503Z
LAST-MODIFIED:20200403T064503Z
UID:197-1599589800-1599589800@stnicholasprayergarden.org
SUMMARY:Feast of OLG Health
DESCRIPTION:
URL:https://stnicholasprayergarden.org/event/feast-of-olg-health/
END:VEVENT
BEGIN:VEVENT
DTSTART;TZID=America/Chicago:20200907T183000
DTEND;TZID=America/Chicago:20200907T183000
DTSTAMP:20260420T021119
CREATED:20200406T055814Z
LAST-MODIFIED:20200406T055814Z
UID:315-1599503400-1599503400@stnicholasprayergarden.org
SUMMARY:OLG Health Novena
DESCRIPTION:Rosary\, Novena\, and refreshments.
URL:https://stnicholasprayergarden.org/event/olg-health-novena-9/
END:VEVENT
BEGIN:VEVENT
DTSTART;TZID=America/Chicago:20200906T183000
DTEND;TZID=America/Chicago:20200906T183000
DTSTAMP:20260420T021119
CREATED:20200406T055731Z
LAST-MODIFIED:20200406T055731Z
UID:313-1599417000-1599417000@stnicholasprayergarden.org
SUMMARY:OLG Health Novena
DESCRIPTION:Rosary\, Novena\, and refreshments.
URL:https://stnicholasprayergarden.org/event/olg-health-novena-8/
END:VEVENT
BEGIN:VEVENT
DTSTART;TZID=America/Chicago:20200905T183000
DTEND;TZID=America/Chicago:20200905T183000
DTSTAMP:20260420T021119
CREATED:20200406T055651Z
LAST-MODIFIED:20200406T055651Z
UID:311-1599330600-1599330600@stnicholasprayergarden.org
SUMMARY:OLG Health Novena
DESCRIPTION:Rosary\, Novena\, and refreshments.
URL:https://stnicholasprayergarden.org/event/olg-health-novena-7/
END:VEVENT
BEGIN:VEVENT
DTSTART;TZID=America/Chicago:20200904T183000
DTEND;TZID=America/Chicago:20200904T183000
DTSTAMP:20260420T021119
CREATED:20200406T055605Z
LAST-MODIFIED:20200406T055605Z
UID:309-1599244200-1599244200@stnicholasprayergarden.org
SUMMARY:OLG Health Novena
DESCRIPTION:Rosary\, Novena\, and refreshments.
URL:https://stnicholasprayergarden.org/event/olg-health-novena-6/
END:VEVENT
BEGIN:VEVENT
DTSTART;TZID=America/Chicago:20200903T183000
DTEND;TZID=America/Chicago:20200903T183000
DTSTAMP:20260420T021119
CREATED:20200406T055522Z
LAST-MODIFIED:20200406T055522Z
UID:307-1599157800-1599157800@stnicholasprayergarden.org
SUMMARY:OLG Health Novena
DESCRIPTION:Rosary\, Novena\, and refreshments.
URL:https://stnicholasprayergarden.org/event/olg-health-novena-5/
END:VEVENT
BEGIN:VEVENT
DTSTART;TZID=America/Chicago:20200902T183000
DTEND;TZID=America/Chicago:20200902T183000
DTSTAMP:20260420T021119
CREATED:20200406T055417Z
LAST-MODIFIED:20200406T055417Z
UID:305-1599071400-1599071400@stnicholasprayergarden.org
SUMMARY:OLG Health Novena
DESCRIPTION:Rosary\, Novena\, and refreshments.
URL:https://stnicholasprayergarden.org/event/olg-health-novena-4/
END:VEVENT
BEGIN:VEVENT
DTSTART;TZID=America/Chicago:20200901T183000
DTEND;TZID=America/Chicago:20200901T183000
DTSTAMP:20260420T021119
CREATED:20200406T055316Z
LAST-MODIFIED:20200406T055316Z
UID:303-1598985000-1598985000@stnicholasprayergarden.org
SUMMARY:OLG Health Novena
DESCRIPTION:Rosary\, Novena\, and refreshments.
URL:https://stnicholasprayergarden.org/event/olg-health-novena-3/
END:VEVENT
BEGIN:VEVENT
DTSTART;TZID=America/Chicago:20200831T183000
DTEND;TZID=America/Chicago:20200831T183000
DTSTAMP:20260420T021119
CREATED:20200406T055035Z
LAST-MODIFIED:20200406T055156Z
UID:301-1598898600-1598898600@stnicholasprayergarden.org
SUMMARY:OLG Health Novena
DESCRIPTION:Rosary\, Novena\, and refreshments.
URL:https://stnicholasprayergarden.org/event/olg-health-novena-2/
END:VEVENT
BEGIN:VEVENT
DTSTART;TZID=UTC:20200830T183000
DTEND;TZID=UTC:20200830T183000
DTSTAMP:20260420T021119
CREATED:20200403T064359Z
LAST-MODIFIED:20200403T064359Z
UID:194-1598812200-1598812200@stnicholasprayergarden.org
SUMMARY:OLG Health Novena
DESCRIPTION:Rosary\, Novena\, and refreshments.
URL:https://stnicholasprayergarden.org/event/olg-health-novena/
END:VEVENT
BEGIN:VEVENT
DTSTART;VALUE=DATE:20200823
DTEND;VALUE=DATE:20200824
DTSTAMP:20260420T021119
CREATED:20200403T064118Z
LAST-MODIFIED:20200403T020533Z
UID:192-1598140800-1598227199@stnicholasprayergarden.org
SUMMARY:Tea Party
DESCRIPTION:Please check back for more details.
URL:https://stnicholasprayergarden.org/event/tea-party/
END:VEVENT
BEGIN:VEVENT
DTSTART;TZID=UTC:20200613T110000
DTEND;TZID=UTC:20200613T110000
DTSTAMP:20260420T021119
CREATED:20200403T063715Z
LAST-MODIFIED:20200404T203150Z
UID:186-1592046000-1592046000@stnicholasprayergarden.org
SUMMARY:Shrine Leader Meeting
DESCRIPTION:Quarterly update.
URL:https://stnicholasprayergarden.org/event/shrine-leader-meeting-2/
END:VEVENT
BEGIN:VEVENT
DTSTART;TZID=UTC:20200314T110000
DTEND;TZID=UTC:20200314T110000
DTSTAMP:20260420T021119
CREATED:20200403T063334Z
LAST-MODIFIED:20200403T063334Z
UID:180-1584183600-1584183600@stnicholasprayergarden.org
SUMMARY:Shrine Leader Meeting
DESCRIPTION:Quarterly update.
URL:https://stnicholasprayergarden.org/event/shrine-leader-meeting/
END:VEVENT
END:VCALENDAR