BEGIN:VCALENDAR
VERSION:2.0
PRODID:-//St Nicholas Prayer Garden - ECPv6.15.11//NONSGML v1.0//EN
CALSCALE:GREGORIAN
METHOD:PUBLISH
X-WR-CALNAME:St Nicholas Prayer Garden
X-ORIGINAL-URL:https://stnicholasprayergarden.org
X-WR-CALDESC:Events for St Nicholas Prayer Garden
REFRESH-INTERVAL;VALUE=DURATION:PT1H
X-Robots-Tag:noindex
X-PUBLISHED-TTL:PT1H
BEGIN:VTIMEZONE
TZID:America/Chicago
BEGIN:DAYLIGHT
TZOFFSETFROM:-0600
TZOFFSETTO:-0500
TZNAME:CDT
DTSTART:20200308T080000
END:DAYLIGHT
BEGIN:STANDARD
TZOFFSETFROM:-0500
TZOFFSETTO:-0600
TZNAME:CST
DTSTART:20201101T070000
END:STANDARD
BEGIN:DAYLIGHT
TZOFFSETFROM:-0600
TZOFFSETTO:-0500
TZNAME:CDT
DTSTART:20210314T080000
END:DAYLIGHT
BEGIN:STANDARD
TZOFFSETFROM:-0500
TZOFFSETTO:-0600
TZNAME:CST
DTSTART:20211107T070000
END:STANDARD
BEGIN:DAYLIGHT
TZOFFSETFROM:-0600
TZOFFSETTO:-0500
TZNAME:CDT
DTSTART:20220313T080000
END:DAYLIGHT
BEGIN:STANDARD
TZOFFSETFROM:-0500
TZOFFSETTO:-0600
TZNAME:CST
DTSTART:20221106T070000
END:STANDARD
END:VTIMEZONE
BEGIN:VEVENT
DTSTART;VALUE=DATE:20210830
DTEND;VALUE=DATE:20210908
DTSTAMP:20260420T021720
CREATED:20210810T234813Z
LAST-MODIFIED:20210811T000259Z
UID:1468-1630281600-1631059199@stnicholasprayergarden.org
SUMMARY:Novena Prayer to Mary at the Prayer Garden
DESCRIPTION:Join us in the Prayer Garden to pray Novenas to Mary\n\nNightly August 30 – September 7\n\nOur Lady of the Stairs in Spanish 6:00 pm\nOur Lady of Health in English 6:30 pm
URL:https://stnicholasprayergarden.org/event/pray-novenas-to-mary-at-the-prayer-garden/
END:VEVENT
END:VCALENDAR